Package: spatialHeatmap Version: 2.12.1 Command: /home/biocbuild/R/R/bin/R CMD build --keep-empty-dirs --no-resave-data spatialHeatmap StartedAt: 2025-01-31 02:54:05 -0000 (Fri, 31 Jan 2025) EndedAt: 2025-01-31 03:00:27 -0000 (Fri, 31 Jan 2025) EllapsedTime: 382.3 seconds RetCode: 0 Status: OK PackageFile: spatialHeatmap_2.12.1.tar.gz PackageFileSize: 26.99 MiB