Package: spatialSimGP Version: 1.0.0 Command: /Library/Frameworks/R.framework/Resources/bin/R CMD build --keep-empty-dirs --no-resave-data spatialSimGP StartedAt: 2025-02-03 22:33:01 -0500 (Mon, 03 Feb 2025) EndedAt: 2025-02-03 22:35:12 -0500 (Mon, 03 Feb 2025) EllapsedTime: 131.0 seconds RetCode: 0 Status: OK PackageFile: spatialSimGP_1.0.0.tar.gz PackageFileSize: 732.5 KiB