Package: spatialSimGP Version: 1.0.0 Command: /Library/Frameworks/R.framework/Resources/bin/R CMD check --install=check:spatialSimGP.install-out.txt --library=/Library/Frameworks/R.framework/Resources/library --no-vignettes --timings spatialSimGP_1.0.0.tar.gz StartedAt: 2025-02-04 10:33:10 -0500 (Tue, 04 Feb 2025) EndedAt: 2025-02-04 10:39:36 -0500 (Tue, 04 Feb 2025) EllapsedTime: 386.1 seconds RetCode: 0 Status: OK CheckDir: spatialSimGP.Rcheck Warnings: 0