Package: spatialSimGP Version: 1.0.0 Command: /Library/Frameworks/R.framework/Resources/bin/R CMD INSTALL spatialSimGP StartedAt: 2025-02-03 15:33:37 -0500 (Mon, 03 Feb 2025) EndedAt: 2025-02-03 15:34:24 -0500 (Mon, 03 Feb 2025) EllapsedTime: 47.2 seconds RetCode: 0 Status: OK