Package: spatialSimGP Version: 1.0.0 Command: /home/biocbuild/bbs-3.20-bioc/R/bin/R CMD INSTALL spatialSimGP StartedAt: 2025-02-03 15:25:24 -0500 (Mon, 03 Feb 2025) EndedAt: 2025-02-03 15:25:45 -0500 (Mon, 03 Feb 2025) EllapsedTime: 20.9 seconds RetCode: 0 Status: OK