Package: spatialSimGP Version: 1.0.0 Command: chmod a+r spatialSimGP -R && F:\biocbuild\bbs-3.20-bioc\R\bin\R.exe CMD build --keep-empty-dirs --no-resave-data spatialSimGP StartedAt: 2025-02-03 22:19:37 -0500 (Mon, 03 Feb 2025) EndedAt: 2025-02-03 22:23:14 -0500 (Mon, 03 Feb 2025) EllapsedTime: 217.8 seconds RetCode: 0 Status: OK PackageFile: spatialSimGP_1.0.0.tar.gz PackageFileSize: 363.1 KiB