Package: spatialSimGP Version: 1.0.0 Command: F:\biocbuild\bbs-3.20-bioc\R\bin\R.exe CMD check --no-multiarch --install=check:spatialSimGP.install-out.txt --library=F:\biocbuild\bbs-3.20-bioc\R\library --no-vignettes --timings spatialSimGP_1.0.0.tar.gz StartedAt: 2025-02-04 06:33:15 -0500 (Tue, 04 Feb 2025) EndedAt: 2025-02-04 06:37:20 -0500 (Tue, 04 Feb 2025) EllapsedTime: 245.8 seconds RetCode: 0 Status: OK CheckDir: spatialSimGP.Rcheck Warnings: 0