Package: spatialSimGP Version: 1.0.0 Command: /home/biocbuild/R/R/bin/R CMD build --keep-empty-dirs --no-resave-data spatialSimGP StartedAt: 2025-02-04 03:13:04 -0000 (Tue, 04 Feb 2025) EndedAt: 2025-02-04 03:14:18 -0000 (Tue, 04 Feb 2025) EllapsedTime: 74.1 seconds RetCode: 0 Status: OK PackageFile: spatialSimGP_1.0.0.tar.gz PackageFileSize: 538.9 KiB