Package: spatzie Version: 1.12.0 Command: /Library/Frameworks/R.framework/Resources/bin/R CMD check --install=check:spatzie.install-out.txt --library=/Library/Frameworks/R.framework/Resources/library --no-vignettes --timings spatzie_1.12.0.tar.gz StartedAt: 2025-02-18 09:50:52 -0500 (Tue, 18 Feb 2025) EndedAt: 2025-02-18 10:03:55 -0500 (Tue, 18 Feb 2025) EllapsedTime: 782.3 seconds RetCode: 0 Status: OK CheckDir: spatzie.Rcheck Warnings: 0