Package: spatzie Version: 1.12.0 Command: /home/biocbuild/bbs-3.20-bioc/R/bin/R CMD check --install=check:spatzie.install-out.txt --library=/home/biocbuild/bbs-3.20-bioc/R/site-library --timings spatzie_1.12.0.tar.gz StartedAt: 2025-02-04 02:45:10 -0500 (Tue, 04 Feb 2025) EndedAt: 2025-02-04 02:51:36 -0500 (Tue, 04 Feb 2025) EllapsedTime: 385.4 seconds RetCode: 0 Status: OK CheckDir: spatzie.Rcheck Warnings: 0