Package: specL Version: 1.40.0 Command: rm -rf specL.buildbin-libdir && mkdir specL.buildbin-libdir && /Users/biocbuild/BBS/utils/build-universal.sh specL_1.40.0.tar.gz /Library/Frameworks/R.framework/Resources/bin/R specL.buildbin-libdir StartedAt: 2025-02-05 17:56:59 -0500 (Wed, 05 Feb 2025) EndedAt: 2025-02-05 17:57:08 -0500 (Wed, 05 Feb 2025) EllapsedTime: 8.9 seconds RetCode: 0 Status: OK PackageFile: specL_1.40.0.tgz PackageFileSize: 2.351 MiB