Package: specL Version: 1.40.0 Command: /Library/Frameworks/R.framework/Resources/bin/R CMD check --install=check:specL.install-out.txt --library=/Library/Frameworks/R.framework/Resources/library --no-vignettes --timings specL_1.40.0.tar.gz StartedAt: 2025-02-05 11:15:33 -0500 (Wed, 05 Feb 2025) EndedAt: 2025-02-05 11:16:30 -0500 (Wed, 05 Feb 2025) EllapsedTime: 56.4 seconds RetCode: 0 Status: OK CheckDir: specL.Rcheck Warnings: 0