Package: specL Version: 1.40.0 Command: /Library/Frameworks/R.framework/Resources/bin/R CMD INSTALL specL StartedAt: 2025-02-03 15:39:02 -0500 (Mon, 03 Feb 2025) EndedAt: 2025-02-03 15:39:07 -0500 (Mon, 03 Feb 2025) EllapsedTime: 4.7 seconds RetCode: 0 Status: OK