Package: specL Version: 1.40.0 Command: /home/biocbuild/bbs-3.20-bioc/R/bin/R CMD build --keep-empty-dirs --no-resave-data --md5 specL StartedAt: 2025-02-03 19:27:26 -0500 (Mon, 03 Feb 2025) EndedAt: 2025-02-03 19:27:46 -0500 (Mon, 03 Feb 2025) EllapsedTime: 20.0 seconds RetCode: 0 Status: OK PackageFile: specL_1.40.0.tar.gz PackageFileSize: 2.084 MiB