Package: specL Version: 1.40.0 Command: /home/biocbuild/bbs-3.20-bioc/R/bin/R CMD check --install=check:specL.install-out.txt --library=/home/biocbuild/bbs-3.20-bioc/R/site-library --timings specL_1.40.0.tar.gz StartedAt: 2025-02-04 02:46:00 -0500 (Tue, 04 Feb 2025) EndedAt: 2025-02-04 02:46:54 -0500 (Tue, 04 Feb 2025) EllapsedTime: 54.0 seconds RetCode: 0 Status: OK CheckDir: specL.Rcheck Warnings: 0