Package: specL Version: 1.40.0 Command: /home/biocbuild/bbs-3.20-bioc/R/bin/R CMD INSTALL specL StartedAt: 2025-02-03 15:24:44 -0500 (Mon, 03 Feb 2025) EndedAt: 2025-02-03 15:24:50 -0500 (Mon, 03 Feb 2025) EllapsedTime: 5.8 seconds RetCode: 0 Status: OK