Package: specL Version: 1.40.0 Command: chmod a+r specL -R && F:\biocbuild\bbs-3.20-bioc\R\bin\R.exe CMD build --keep-empty-dirs --no-resave-data specL StartedAt: 2025-02-03 22:20:02 -0500 (Mon, 03 Feb 2025) EndedAt: 2025-02-03 22:20:45 -0500 (Mon, 03 Feb 2025) EllapsedTime: 43.3 seconds RetCode: 0 Status: OK PackageFile: specL_1.40.0.tar.gz PackageFileSize: 1.387 MiB