Package: speckle
Version: 1.6.0
Command: /home/biocbuild/R/R/bin/R CMD check --install=check:speckle.install-out.txt --library=/home/biocbuild/R/R/site-library --no-vignettes --timings speckle_1.6.0.tar.gz
StartedAt: 2024-11-20 12:45:58 -0000 (Wed, 20 Nov 2024)
EndedAt: 2024-11-20 12:51:27 -0000 (Wed, 20 Nov 2024)
EllapsedTime: 328.5 seconds
RetCode: 0
Status: OK
CheckDir: speckle.Rcheck
Warnings: 0