Package: speckle Version: 1.6.0 Command: /Library/Frameworks/R.framework/Resources/bin/R CMD build --keep-empty-dirs --no-resave-data speckle StartedAt: 2025-02-03 22:33:31 -0500 (Mon, 03 Feb 2025) EndedAt: 2025-02-03 22:36:25 -0500 (Mon, 03 Feb 2025) EllapsedTime: 173.1 seconds RetCode: 0 Status: OK PackageFile: speckle_1.6.0.tar.gz PackageFileSize: 1.393 MiB