Package: speckle Version: 1.6.0 Command: /home/biocbuild/bbs-3.20-bioc/R/bin/R CMD build --keep-empty-dirs --no-resave-data --md5 speckle StartedAt: 2025-02-03 19:27:02 -0500 (Mon, 03 Feb 2025) EndedAt: 2025-02-03 19:28:19 -0500 (Mon, 03 Feb 2025) EllapsedTime: 77.1 seconds RetCode: 0 Status: OK PackageFile: speckle_1.6.0.tar.gz PackageFileSize: 1.374 MiB