Package: speckle Version: 1.6.0 Command: /home/biocbuild/bbs-3.20-bioc/R/bin/R CMD check --install=check:speckle.install-out.txt --library=/home/biocbuild/bbs-3.20-bioc/R/site-library --timings speckle_1.6.0.tar.gz StartedAt: 2025-02-04 02:45:45 -0500 (Tue, 04 Feb 2025) EndedAt: 2025-02-04 02:50:25 -0500 (Tue, 04 Feb 2025) EllapsedTime: 279.3 seconds RetCode: 0 Status: OK CheckDir: speckle.Rcheck Warnings: 0