Package: speckle Version: 1.6.0 Command: /home/biocbuild/R/R/bin/R CMD check --install=check:speckle.install-out.txt --library=/home/biocbuild/R/R/site-library --no-vignettes --timings speckle_1.6.0.tar.gz StartedAt: 2025-02-04 11:18:29 -0000 (Tue, 04 Feb 2025) EndedAt: 2025-02-04 11:23:32 -0000 (Tue, 04 Feb 2025) EllapsedTime: 303.3 seconds RetCode: 0 Status: OK CheckDir: speckle.Rcheck Warnings: 0