Package: spikeLI Version: 2.66.0 Command: rm -rf spikeLI.buildbin-libdir && mkdir spikeLI.buildbin-libdir && /Users/biocbuild/BBS/utils/build-universal.sh spikeLI_2.66.0.tar.gz /Library/Frameworks/R.framework/Resources/bin/R spikeLI.buildbin-libdir StartedAt: 2025-02-05 17:57:30 -0500 (Wed, 05 Feb 2025) EndedAt: 2025-02-05 17:57:33 -0500 (Wed, 05 Feb 2025) EllapsedTime: 3.5 seconds RetCode: 0 Status: OK PackageFile: spikeLI_2.66.0.tgz PackageFileSize: 417 KiB