Package: spikeLI Version: 2.66.0 Command: /Library/Frameworks/R.framework/Resources/bin/R CMD build --keep-empty-dirs --no-resave-data spikeLI StartedAt: 2025-01-30 23:08:16 -0500 (Thu, 30 Jan 2025) EndedAt: 2025-01-30 23:08:33 -0500 (Thu, 30 Jan 2025) EllapsedTime: 16.8 seconds RetCode: 0 Status: OK PackageFile: spikeLI_2.66.0.tar.gz PackageFileSize: 393.7 KiB