Package: spikeLI Version: 2.66.0 Command: rm -rf spikeLI.buildbin-libdir && mkdir spikeLI.buildbin-libdir && F:\biocbuild\bbs-3.20-bioc\R\bin\R.exe CMD INSTALL --build --library=spikeLI.buildbin-libdir spikeLI_2.66.0.tar.gz StartedAt: 2025-02-04 09:35:46 -0500 (Tue, 04 Feb 2025) EndedAt: 2025-02-04 09:35:53 -0500 (Tue, 04 Feb 2025) EllapsedTime: 6.5 seconds RetCode: 0 Status: OK PackageFile: spikeLI_2.66.0.zip PackageFileSize: 317.7 KiB