Package: spikeLI Version: 2.66.0 Command: chmod a+r spikeLI -R && F:\biocbuild\bbs-3.20-bioc\R\bin\R.exe CMD build --keep-empty-dirs --no-resave-data spikeLI StartedAt: 2025-01-30 22:04:12 -0500 (Thu, 30 Jan 2025) EndedAt: 2025-01-30 22:04:29 -0500 (Thu, 30 Jan 2025) EllapsedTime: 16.9 seconds RetCode: 0 Status: OK PackageFile: spikeLI_2.66.0.tar.gz PackageFileSize: 290.5 KiB