Package: spikeLI Version: 2.66.0 Command: F:\biocbuild\bbs-3.20-bioc\R\bin\R.exe CMD check --no-multiarch --install=check:spikeLI.install-out.txt --library=F:\biocbuild\bbs-3.20-bioc\R\library --no-vignettes --timings spikeLI_2.66.0.tar.gz StartedAt: 2025-01-31 06:48:13 -0500 (Fri, 31 Jan 2025) EndedAt: 2025-01-31 06:48:47 -0500 (Fri, 31 Jan 2025) EllapsedTime: 33.7 seconds RetCode: 0 Status: OK CheckDir: spikeLI.Rcheck Warnings: 0