Package: spikeLI Version: 2.66.0 Command: /home/biocbuild/R/R/bin/R CMD build --keep-empty-dirs --no-resave-data spikeLI StartedAt: 2025-02-04 03:14:39 -0000 (Tue, 04 Feb 2025) EndedAt: 2025-02-04 03:14:48 -0000 (Tue, 04 Feb 2025) EllapsedTime: 9.0 seconds RetCode: 0 Status: OK PackageFile: spikeLI_2.66.0.tar.gz PackageFileSize: 383.2 KiB