Package: spikeLI Version: 2.66.0 Command: /home/biocbuild/R/R/bin/R CMD check --install=check:spikeLI.install-out.txt --library=/home/biocbuild/R/R/site-library --no-vignettes --timings spikeLI_2.66.0.tar.gz StartedAt: 2025-01-31 10:41:18 -0000 (Fri, 31 Jan 2025) EndedAt: 2025-01-31 10:41:37 -0000 (Fri, 31 Jan 2025) EllapsedTime: 19.0 seconds RetCode: 0 Status: OK CheckDir: spikeLI.Rcheck Warnings: 0