Package: spikeLI Version: 2.66.0 Command: /home/biocbuild/R/R/bin/R CMD INSTALL spikeLI StartedAt: 2025-02-03 20:21:19 -0000 (Mon, 03 Feb 2025) EndedAt: 2025-02-03 20:21:26 -0000 (Mon, 03 Feb 2025) EllapsedTime: 7.3 seconds RetCode: 0 Status: OK