Package: spiky Version: 1.12.0 Command: /Library/Frameworks/R.framework/Resources/bin/R CMD INSTALL spiky StartedAt: 2025-02-03 17:12:48 -0500 (Mon, 03 Feb 2025) EndedAt: 2025-02-03 17:13:38 -0500 (Mon, 03 Feb 2025) EllapsedTime: 49.3 seconds RetCode: 0 Status: OK