Package: spiky Version: 1.12.0 Command: /Library/Frameworks/R.framework/Resources/bin/R CMD build --keep-empty-dirs --no-resave-data spiky StartedAt: 2025-02-03 22:36:09 -0500 (Mon, 03 Feb 2025) EndedAt: 2025-02-03 22:39:34 -0500 (Mon, 03 Feb 2025) EllapsedTime: 205.1 seconds RetCode: 0 Status: OK PackageFile: spiky_1.12.0.tar.gz PackageFileSize: 14.31 MiB