Package: spiky Version: 1.12.0 Command: /home/biocbuild/bbs-3.20-bioc/R/bin/R CMD INSTALL spiky StartedAt: 2025-02-03 15:51:16 -0500 (Mon, 03 Feb 2025) EndedAt: 2025-02-03 15:52:00 -0500 (Mon, 03 Feb 2025) EllapsedTime: 43.6 seconds RetCode: 0 Status: OK