Package: spiky Version: 1.12.0 Command: rm -rf spiky.buildbin-libdir && mkdir spiky.buildbin-libdir && F:\biocbuild\bbs-3.20-bioc\R\bin\R.exe CMD INSTALL --build --library=spiky.buildbin-libdir spiky_1.12.0.tar.gz StartedAt: 2025-02-04 09:35:48 -0500 (Tue, 04 Feb 2025) EndedAt: 2025-02-04 09:36:51 -0500 (Tue, 04 Feb 2025) EllapsedTime: 63.2 seconds RetCode: 0 Status: OK PackageFile: spiky_1.12.0.zip PackageFileSize: 15.23 MiB