Package: spiky Version: 1.12.0 Command: chmod a+r spiky -R && F:\biocbuild\bbs-3.20-bioc\R\bin\R.exe CMD build --keep-empty-dirs --no-resave-data spiky StartedAt: 2025-02-03 22:21:33 -0500 (Mon, 03 Feb 2025) EndedAt: 2025-02-03 22:23:55 -0500 (Mon, 03 Feb 2025) EllapsedTime: 141.0 seconds RetCode: 0 Status: OK PackageFile: spiky_1.12.0.tar.gz PackageFileSize: 14.31 MiB