Package: spiky Version: 1.12.0 Command: F:\biocbuild\bbs-3.20-bioc\R\bin\R.exe CMD INSTALL spiky StartedAt: 2025-02-03 16:49:15 -0500 (Mon, 03 Feb 2025) EndedAt: 2025-02-03 16:50:20 -0500 (Mon, 03 Feb 2025) EllapsedTime: 65.6 seconds RetCode: 0 Status: OK