Package: spillR Version: 1.2.0 Command: rm -rf spillR.buildbin-libdir && mkdir spillR.buildbin-libdir && /Users/biocbuild/BBS/utils/build-universal.sh spillR_1.2.0.tar.gz /Library/Frameworks/R.framework/Resources/bin/R spillR.buildbin-libdir StartedAt: 2025-02-05 17:57:32 -0500 (Wed, 05 Feb 2025) EndedAt: 2025-02-05 17:58:12 -0500 (Wed, 05 Feb 2025) EllapsedTime: 40.4 seconds RetCode: 0 Status: OK PackageFile: spillR_1.2.0.tgz PackageFileSize: 574.3 KiB