Package: spillR Version: 1.2.0 Command: /Library/Frameworks/R.framework/Resources/bin/R CMD build --keep-empty-dirs --no-resave-data spillR StartedAt: 2025-02-04 08:59:01 -0500 (Tue, 04 Feb 2025) EndedAt: 2025-02-04 09:01:34 -0500 (Tue, 04 Feb 2025) EllapsedTime: 153.8 seconds RetCode: 0 Status: OK PackageFile: spillR_1.2.0.tar.gz PackageFileSize: 563.8 KiB