Package: spillR Version: 1.2.0 Command: /Library/Frameworks/R.framework/Resources/bin/R CMD check --install=check:spillR.install-out.txt --library=/Library/Frameworks/R.framework/Resources/library --no-vignettes --timings spillR_1.2.0.tar.gz StartedAt: 2025-02-05 11:27:14 -0500 (Wed, 05 Feb 2025) EndedAt: 2025-02-05 11:34:50 -0500 (Wed, 05 Feb 2025) EllapsedTime: 455.9 seconds RetCode: 0 Status: OK CheckDir: spillR.Rcheck Warnings: 0