Package: spillR Version: 1.2.0 Command: /Library/Frameworks/R.framework/Resources/bin/R CMD check --install=check:spillR.install-out.txt --library=/Library/Frameworks/R.framework/Resources/library --no-vignettes --timings spillR_1.2.0.tar.gz StartedAt: 2025-02-04 10:39:06 -0500 (Tue, 04 Feb 2025) EndedAt: 2025-02-04 10:52:43 -0500 (Tue, 04 Feb 2025) EllapsedTime: 817.3 seconds RetCode: 0 Status: OK CheckDir: spillR.Rcheck Warnings: 0