Package: spillR Version: 1.2.0 Command: /Library/Frameworks/R.framework/Resources/bin/R CMD INSTALL spillR StartedAt: 2025-02-03 16:48:18 -0500 (Mon, 03 Feb 2025) EndedAt: 2025-02-03 16:49:25 -0500 (Mon, 03 Feb 2025) EllapsedTime: 67.5 seconds RetCode: 0 Status: OK