Package: spillR Version: 1.2.0 Command: /home/biocbuild/bbs-3.20-bioc/R/bin/R CMD build --keep-empty-dirs --no-resave-data --md5 spillR StartedAt: 2025-02-03 19:28:10 -0500 (Mon, 03 Feb 2025) EndedAt: 2025-02-03 19:30:16 -0500 (Mon, 03 Feb 2025) EllapsedTime: 126.1 seconds RetCode: 0 Status: OK PackageFile: spillR_1.2.0.tar.gz PackageFileSize: 429.2 KiB