Package: spillR Version: 1.2.0 Command: /home/biocbuild/bbs-3.20-bioc/R/bin/R CMD check --install=check:spillR.install-out.txt --library=/home/biocbuild/bbs-3.20-bioc/R/site-library --timings spillR_1.2.0.tar.gz StartedAt: 2025-02-04 02:48:28 -0500 (Tue, 04 Feb 2025) EndedAt: 2025-02-04 02:56:18 -0500 (Tue, 04 Feb 2025) EllapsedTime: 470.4 seconds RetCode: 0 Status: OK CheckDir: spillR.Rcheck Warnings: 0