Package: spillR Version: 1.1.1 Command: chmod a+r spillR -R && C:\Users\biocbuild\bbs-3.20-bioc\R\bin\R.exe CMD build --keep-empty-dirs --no-resave-data spillR StartedAt: 2024-07-15 21:03:04 -0400 (Mon, 15 Jul 2024) EndedAt: 2024-07-15 21:05:39 -0400 (Mon, 15 Jul 2024) EllapsedTime: 154.8 seconds RetCode: 0 Status: OK PackageFile: spillR_1.1.1.tar.gz PackageFileSize: 296.9 KiB