Package: spkTools Version: 1.62.0 Command: /home/biocbuild/bbs-3.20-bioc/R/bin/R CMD check --install=check:spkTools.install-out.txt --library=/home/biocbuild/bbs-3.20-bioc/R/site-library --timings spkTools_1.62.0.tar.gz StartedAt: 2025-02-04 02:48:38 -0500 (Tue, 04 Feb 2025) EndedAt: 2025-02-04 02:50:07 -0500 (Tue, 04 Feb 2025) EllapsedTime: 89.1 seconds RetCode: 0 Status: OK CheckDir: spkTools.Rcheck Warnings: 0