Package: spkTools
Version: 1.62.0
Command: rm -rf spkTools.buildbin-libdir && mkdir spkTools.buildbin-libdir && F:\biocbuild\bbs-3.20-bioc\R\bin\R.exe CMD INSTALL --build --library=spkTools.buildbin-libdir spkTools_1.62.0.tar.gz
StartedAt: 2025-02-18 09:12:02 -0500 (Tue, 18 Feb 2025)
EndedAt: 2025-02-18 09:12:23 -0500 (Tue, 18 Feb 2025)
EllapsedTime: 21.2 seconds
RetCode: 0
Status: OK
PackageFile: spkTools_1.62.0.zip
PackageFileSize: 719.8 <A href="http://en.wikipedia.org/wiki/KiB" target="_blank">KiB</A>