Package: spkTools Version: 1.62.0 Command: /home/biocbuild/R/R/bin/R CMD build --keep-empty-dirs --no-resave-data spkTools StartedAt: 2025-02-04 03:14:48 -0000 (Tue, 04 Feb 2025) EndedAt: 2025-02-04 03:15:08 -0000 (Tue, 04 Feb 2025) EllapsedTime: 20.0 seconds RetCode: 0 Status: OK PackageFile: spkTools_1.62.0.tar.gz PackageFileSize: 652.6 KiB