Package: spkTools Version: 1.62.0 Command: /home/biocbuild/R/R/bin/R CMD check --install=check:spkTools.install-out.txt --library=/home/biocbuild/R/R/site-library --no-vignettes --timings spkTools_1.62.0.tar.gz StartedAt: 2025-02-04 11:21:15 -0000 (Tue, 04 Feb 2025) EndedAt: 2025-02-04 11:22:35 -0000 (Tue, 04 Feb 2025) EllapsedTime: 80.1 seconds RetCode: 0 Status: OK CheckDir: spkTools.Rcheck Warnings: 0