Package: spkTools Version: 1.62.0 Command: /home/biocbuild/R/R/bin/R CMD INSTALL spkTools StartedAt: 2025-02-03 20:22:35 -0000 (Mon, 03 Feb 2025) EndedAt: 2025-02-03 20:23:03 -0000 (Mon, 03 Feb 2025) EllapsedTime: 28.8 seconds RetCode: 0 Status: OK