Package: splatter Version: 1.30.0 Command: /Library/Frameworks/R.framework/Resources/bin/R CMD check --install=check:splatter.install-out.txt --library=/Library/Frameworks/R.framework/Resources/library --no-vignettes --timings splatter_1.30.0.tar.gz StartedAt: 2025-02-05 11:27:53 -0500 (Wed, 05 Feb 2025) EndedAt: 2025-02-05 11:36:20 -0500 (Wed, 05 Feb 2025) EllapsedTime: 507.1 seconds RetCode: 0 Status: OK CheckDir: splatter.Rcheck Warnings: 0